Package: flowTrans Version: 1.59.0 Command: /home/biocbuild/bbs-3.21-bioc/R/bin/R CMD build --keep-empty-dirs --no-resave-data flowTrans StartedAt: 2025-02-05 17:17:14 -0500 (Wed, 05 Feb 2025) EndedAt: 2025-02-05 17:17:34 -0500 (Wed, 05 Feb 2025) EllapsedTime: 20.0 seconds RetCode: 0 Status: OK PackageFile: flowTrans_1.59.0.tar.gz PackageFileSize: 480.2 KiB