Package: flowTrans Version: 1.61.0 Command: /Library/Frameworks/R.framework/Resources/bin/R CMD build --keep-empty-dirs --no-resave-data flowTrans StartedAt: 2025-04-29 16:47:43 -0400 (Tue, 29 Apr 2025) EndedAt: 2025-04-29 16:48:11 -0400 (Tue, 29 Apr 2025) EllapsedTime: 28.7 seconds RetCode: 0 Status: OK PackageFile: flowTrans_1.61.0.tar.gz PackageFileSize: 479.8 KiB