Package: flowTrans Version: 1.59.0 Command: rm -rf flowTrans.buildbin-libdir && mkdir flowTrans.buildbin-libdir && /Users/biocbuild/BBS/utils/build-universal.sh flowTrans_1.59.0.tar.gz /Library/Frameworks/R.framework/Resources/bin/R flowTrans.buildbin-libdir StartedAt: 2025-02-06 00:30:53 -0500 (Thu, 06 Feb 2025) EndedAt: 2025-02-06 00:31:06 -0500 (Thu, 06 Feb 2025) EllapsedTime: 13.9 seconds RetCode: 0 Status: OK PackageFile: flowTrans_1.59.0.tgz PackageFileSize: 523.1 KiB