Package: flowTrans Version: 1.59.0 Command: /home/biocbuild/R/R/bin/R CMD build --keep-empty-dirs --no-resave-data flowTrans StartedAt: 2025-01-28 22:57:41 -0000 (Tue, 28 Jan 2025) EndedAt: 2025-01-28 22:58:12 -0000 (Tue, 28 Jan 2025) EllapsedTime: 31.0 seconds RetCode: 0 Status: OK PackageFile: flowTrans_1.59.0.tar.gz PackageFileSize: 470.9 KiB