Package: flowTrans Version: 1.59.0 Command: /Library/Frameworks/R.framework/Resources/bin/R CMD INSTALL flowTrans StartedAt: 2025-02-05 15:04:54 -0500 (Wed, 05 Feb 2025) EndedAt: 2025-02-05 15:04:57 -0500 (Wed, 05 Feb 2025) EllapsedTime: 3.3 seconds RetCode: 0 Status: OK