Package: flowTrans Version: 1.59.0 Command: /Library/Frameworks/R.framework/Resources/bin/R CMD check --install=check:flowTrans.install-out.txt --library=/Library/Frameworks/R.framework/Resources/library --no-vignettes --timings flowTrans_1.59.0.tar.gz StartedAt: 2025-02-03 19:53:10 -0500 (Mon, 03 Feb 2025) EndedAt: 2025-02-03 19:53:37 -0500 (Mon, 03 Feb 2025) EllapsedTime: 27.3 seconds RetCode: 0 Status: OK CheckDir: flowTrans.Rcheck Warnings: 0