Package: flowTrans Version: 1.59.0 Command: /Library/Frameworks/R.framework/Resources/bin/R CMD build --keep-empty-dirs --no-resave-data flowTrans StartedAt: 2025-02-03 16:58:09 -0500 (Mon, 03 Feb 2025) EndedAt: 2025-02-03 16:58:19 -0500 (Mon, 03 Feb 2025) EllapsedTime: 10.1 seconds RetCode: 0 Status: OK PackageFile: flowTrans_1.59.0.tar.gz PackageFileSize: 480.5 KiB