Package: flowTrans Version: 1.59.0 Command: rm -rf flowTrans.buildbin-libdir && mkdir flowTrans.buildbin-libdir && /Users/biocbuild/BBS/utils/build-universal.sh flowTrans_1.59.0.tar.gz /Library/Frameworks/R.framework/Resources/bin/R flowTrans.buildbin-libdir StartedAt: 2025-02-03 22:50:36 -0500 (Mon, 03 Feb 2025) EndedAt: 2025-02-03 22:50:40 -0500 (Mon, 03 Feb 2025) EllapsedTime: 4.1 seconds RetCode: 0 Status: OK PackageFile: flowTrans_1.59.0.tgz PackageFileSize: 524 KiB