Package: flowTrans Version: 1.59.0 Maintainer: Greg Finak MaintainerEmail: gfinak at fredhutch.org git_url: https://git.bioconductor.org/packages/flowTrans git_branch: devel git_last_commit: 0b7c905 git_last_commit_date: 2024-10-29 09:34:07 -0500 (Tue, 29 Oct 2024)