Package: flowStats Version: 4.21.0 Command: /Library/Frameworks/R.framework/Resources/bin/R CMD INSTALL flowStats StartedAt: 2025-05-07 15:30:35 -0400 (Wed, 07 May 2025) EndedAt: 2025-05-07 15:31:13 -0400 (Wed, 07 May 2025) EllapsedTime: 37.2 seconds RetCode: 0 Status: OK