Package: flowStats Version: 4.21.0 Command: rm -rf flowStats.buildbin-libdir && mkdir flowStats.buildbin-libdir && /Users/biocbuild/BBS/utils/build-universal.sh flowStats_4.21.0.tar.gz /Library/Frameworks/R.framework/Resources/bin/R flowStats.buildbin-libdir StartedAt: 2025-05-09 00:44:42 -0400 (Fri, 09 May 2025) EndedAt: 2025-05-09 00:45:22 -0400 (Fri, 09 May 2025) EllapsedTime: 40.5 seconds RetCode: 0 Status: OK PackageFile: flowStats_4.21.0.tgz PackageFileSize: 11.7 MiB