Package: flowStats Version: 4.19.0 Command: /home/biocbuild/R/R/bin/R CMD check --install=check:flowStats.install-out.txt --library=/home/biocbuild/R/R/site-library --no-vignettes --timings flowStats_4.19.0.tar.gz StartedAt: 2025-01-28 10:41:37 -0000 (Tue, 28 Jan 2025) EndedAt: 2025-01-28 10:45:21 -0000 (Tue, 28 Jan 2025) EllapsedTime: 224.3 seconds RetCode: 0 Status: WARNINGS CheckDir: flowStats.Rcheck Warnings: 4