Package: flowStats Version: 4.21.0 Command: /Library/Frameworks/R.framework/Resources/bin/R CMD INSTALL flowStats StartedAt: 2025-05-09 15:10:21 -0400 (Fri, 09 May 2025) EndedAt: 2025-05-09 15:10:31 -0400 (Fri, 09 May 2025) EllapsedTime: 10.2 seconds RetCode: 0 Status: OK