Package: flowPlots Version: 1.57.0 Command: chmod a+r flowPlots -R && F:\biocbuild\bbs-3.22-bioc\R\bin\R.exe CMD build --keep-empty-dirs --no-resave-data flowPlots StartedAt: 2025-08-14 20:15:44 -0400 (Thu, 14 Aug 2025) EndedAt: 2025-08-14 20:16:05 -0400 (Thu, 14 Aug 2025) EllapsedTime: 21.0 seconds RetCode: 0 Status: OK PackageFile: flowPlots_1.57.0.tar.gz PackageFileSize: 455 KiB