Package: flowPloidy Version: 1.35.0 Command: chmod a+r flowPloidy -R && F:\biocbuild\bbs-3.22-bioc\R\bin\R.exe CMD build --keep-empty-dirs --no-resave-data flowPloidy StartedAt: 2025-08-14 20:15:42 -0400 (Thu, 14 Aug 2025) EndedAt: 2025-08-14 20:16:23 -0400 (Thu, 14 Aug 2025) EllapsedTime: 41.0 seconds RetCode: 0 Status: OK PackageFile: flowPloidy_1.35.0.tar.gz PackageFileSize: 2.336 MiB