Package: flowPloidy Version: 1.35.0 Command: /home/biocbuild/bbs-3.22-bioc/R/bin/R CMD INSTALL flowPloidy StartedAt: 2025-10-02 15:14:37 -0400 (Thu, 02 Oct 2025) EndedAt: 2025-10-02 15:14:47 -0400 (Thu, 02 Oct 2025) EllapsedTime: 9.7 seconds RetCode: 0 Status: OK