Package: flowPloidy Version: 1.35.0 Command: /home/biocbuild/bbs-3.22-bioc/R/bin/R CMD build --keep-empty-dirs --no-resave-data --md5 flowPloidy StartedAt: 2025-10-02 17:40:35 -0400 (Thu, 02 Oct 2025) EndedAt: 2025-10-02 17:41:01 -0400 (Thu, 02 Oct 2025) EllapsedTime: 26.0 seconds RetCode: 0 Status: OK PackageFile: flowPloidy_1.35.0.tar.gz PackageFileSize: 2.334 MiB