Package: flowPeaks Version: 1.55.0 Command: chmod a+r flowPeaks -R && F:\biocbuild\bbs-3.22-bioc\R\bin\R.exe CMD build --keep-empty-dirs --no-resave-data flowPeaks StartedAt: 2025-08-14 20:15:30 -0400 (Thu, 14 Aug 2025) EndedAt: 2025-08-14 20:20:28 -0400 (Thu, 14 Aug 2025) EllapsedTime: 297.6 seconds RetCode: 0 Status: OK PackageFile: flowPeaks_1.55.0.tar.gz PackageFileSize: 3.892 MiB