Package: flowPeaks Version: 1.55.0 Maintainer: Yongchao Ge MaintainerEmail: yongchao.ge at gmail.com git_url: https://git.bioconductor.org/packages/flowPeaks git_branch: devel git_last_commit: 8b2ce09 git_last_commit_date: 2025-04-15 10:14:10 -0400 (Tue, 15 Apr 2025)