Package: flowMerge Version: 2.57.0 Command: rm -rf flowMerge.buildbin-libdir && mkdir flowMerge.buildbin-libdir && F:\biocbuild\bbs-3.22-bioc\R\bin\R.exe CMD INSTALL --build --library=flowMerge.buildbin-libdir flowMerge_2.57.0.tar.gz StartedAt: 2025-08-15 10:17:18 -0400 (Fri, 15 Aug 2025) EndedAt: 2025-08-15 10:18:09 -0400 (Fri, 15 Aug 2025) EllapsedTime: 51.1 seconds RetCode: 0 Status: OK PackageFile: flowMerge_2.57.0.zip PackageFileSize: 902.5 KiB