Package: flowMerge Version: 2.57.0 Command: /Library/Frameworks/R.framework/Resources/bin/R CMD INSTALL flowMerge StartedAt: 2025-05-06 15:43:15 -0400 (Tue, 06 May 2025) EndedAt: 2025-05-06 15:43:47 -0400 (Tue, 06 May 2025) EllapsedTime: 32.4 seconds RetCode: 0 Status: OK