Package: flowMerge Version: 2.57.0 Command: /Library/Frameworks/R.framework/Resources/bin/R CMD build --keep-empty-dirs --no-resave-data flowMerge StartedAt: 2025-05-08 16:49:12 -0400 (Thu, 08 May 2025) EndedAt: 2025-05-08 16:50:15 -0400 (Thu, 08 May 2025) EllapsedTime: 63.0 seconds RetCode: 0 Status: OK PackageFile: flowMerge_2.57.0.tar.gz PackageFileSize: 630.8 KiB