Package: flowMeans Version: 1.67.0 Command: /home/biocbuild/bbs-3.21-bioc/R/bin/R CMD build --keep-empty-dirs --no-resave-data flowMeans StartedAt: 2025-02-16 17:14:46 -0500 (Sun, 16 Feb 2025) EndedAt: 2025-02-16 17:15:11 -0500 (Sun, 16 Feb 2025) EllapsedTime: 25.0 seconds RetCode: 0 Status: OK PackageFile: flowMeans_1.67.0.tar.gz PackageFileSize: 3.284 MiB