Package: flowMatch Version: 1.45.0 Command: chmod a+r flowMatch -R && F:\biocbuild\bbs-3.22-bioc\R\bin\R.exe CMD build --keep-empty-dirs --no-resave-data flowMatch StartedAt: 2025-08-14 20:14:45 -0400 (Thu, 14 Aug 2025) EndedAt: 2025-08-14 20:15:41 -0400 (Thu, 14 Aug 2025) EllapsedTime: 56.8 seconds RetCode: 0 Status: OK PackageFile: flowMatch_1.45.0.tar.gz PackageFileSize: 3.561 MiB