Package: flowMatch Version: 1.45.0 Command: rm -rf flowMatch.buildbin-libdir && mkdir flowMatch.buildbin-libdir && F:\biocbuild\bbs-3.22-bioc\R\bin\R.exe CMD INSTALL --build --library=flowMatch.buildbin-libdir flowMatch_1.45.0.tar.gz StartedAt: 2025-08-15 10:17:13 -0400 (Fri, 15 Aug 2025) EndedAt: 2025-08-15 10:18:24 -0400 (Fri, 15 Aug 2025) EllapsedTime: 71.5 seconds RetCode: 0 Status: OK PackageFile: flowMatch_1.45.0.zip PackageFileSize: 4.208 MiB