Package: flowMatch Version: 1.45.0 Maintainer: Ariful Azad MaintainerEmail: azad at lbl.gov git_url: https://git.bioconductor.org/packages/flowMatch git_branch: devel git_last_commit: 86e5b96 git_last_commit_date: 2025-04-15 10:27:54 -0400 (Tue, 15 Apr 2025)