Package: flowGraph Version: 1.15.0 Command: /Library/Frameworks/R.framework/Resources/bin/R CMD INSTALL flowGraph StartedAt: 2025-01-31 15:16:50 -0500 (Fri, 31 Jan 2025) EndedAt: 2025-01-31 15:16:56 -0500 (Fri, 31 Jan 2025) EllapsedTime: 5.8 seconds RetCode: 0 Status: OK