Package: flowGraph Version: 1.15.0 Command: /Library/Frameworks/R.framework/Resources/bin/R CMD build --keep-empty-dirs --no-resave-data flowGraph StartedAt: 2025-01-31 16:22:22 -0500 (Fri, 31 Jan 2025) EndedAt: 2025-01-31 16:22:38 -0500 (Fri, 31 Jan 2025) EllapsedTime: 16.2 seconds RetCode: 0 Status: OK PackageFile: flowGraph_1.15.0.tar.gz PackageFileSize: 2.076 MiB