Package: flowGate Version: 1.9.0 Command: /Library/Frameworks/R.framework/Resources/bin/R CMD check --install=check:flowGate.install-out.txt --library=/Library/Frameworks/R.framework/Resources/library --no-vignettes --timings flowGate_1.9.0.tar.gz StartedAt: 2025-04-28 20:34:05 -0400 (Mon, 28 Apr 2025) EndedAt: 2025-04-28 20:35:51 -0400 (Mon, 28 Apr 2025) EllapsedTime: 106.1 seconds RetCode: 0 Status: OK CheckDir: flowGate.Rcheck Warnings: 0