Package: flowGate Version: 1.9.0 Command: /Library/Frameworks/R.framework/Resources/bin/R CMD build --keep-empty-dirs --no-resave-data flowGate StartedAt: 2025-04-28 16:46:07 -0400 (Mon, 28 Apr 2025) EndedAt: 2025-04-28 16:46:43 -0400 (Mon, 28 Apr 2025) EllapsedTime: 35.4 seconds RetCode: 0 Status: OK PackageFile: flowGate_1.9.0.tar.gz PackageFileSize: 2.403 MiB