Package: flowGate Version: 1.9.0 Command: /Library/Frameworks/R.framework/Resources/bin/R CMD INSTALL flowGate StartedAt: 2025-05-08 15:10:06 -0400 (Thu, 08 May 2025) EndedAt: 2025-05-08 15:10:11 -0400 (Thu, 08 May 2025) EllapsedTime: 5.2 seconds RetCode: 0 Status: OK