Package: flowGate Version: 1.9.0 Command: /Library/Frameworks/R.framework/Resources/bin/R CMD check --install=check:flowGate.install-out.txt --library=/Library/Frameworks/R.framework/Resources/library --no-vignettes --timings flowGate_1.9.0.tar.gz StartedAt: 2025-05-09 19:31:51 -0400 (Fri, 09 May 2025) EndedAt: 2025-05-09 19:32:29 -0400 (Fri, 09 May 2025) EllapsedTime: 38.5 seconds RetCode: 0 Status: OK CheckDir: flowGate.Rcheck Warnings: 0