Package: flowGate Version: 1.9.0 Command: /Library/Frameworks/R.framework/Resources/bin/R CMD build --keep-empty-dirs --no-resave-data flowGate StartedAt: 2025-05-09 16:25:22 -0400 (Fri, 09 May 2025) EndedAt: 2025-05-09 16:25:34 -0400 (Fri, 09 May 2025) EllapsedTime: 12.1 seconds RetCode: 0 Status: OK PackageFile: flowGate_1.9.0.tar.gz PackageFileSize: 2.404 MiB