Package: flowGate Version: 1.9.0 Command: rm -rf flowGate.buildbin-libdir && mkdir flowGate.buildbin-libdir && /Users/biocbuild/BBS/utils/build-universal.sh flowGate_1.9.0.tar.gz /Library/Frameworks/R.framework/Resources/bin/R flowGate.buildbin-libdir StartedAt: 2025-05-09 22:40:54 -0400 (Fri, 09 May 2025) EndedAt: 2025-05-09 22:41:01 -0400 (Fri, 09 May 2025) EllapsedTime: 7.2 seconds RetCode: 0 Status: OK PackageFile: flowGate_1.9.0.tgz PackageFileSize: 1.681 MiB