Package: flowFP Version: 1.65.0 Command: /home/biocbuild/bbs-3.21-bioc/R/bin/R CMD INSTALL flowFP StartedAt: 2025-02-03 15:22:54 -0500 (Mon, 03 Feb 2025) EndedAt: 2025-02-03 15:23:07 -0500 (Mon, 03 Feb 2025) EllapsedTime: 12.3 seconds RetCode: 0 Status: OK