Package: flowFP Version: 1.65.0 Command: /home/biocbuild/bbs-3.21-bioc/R/bin/R CMD build --keep-empty-dirs --no-resave-data flowFP StartedAt: 2025-02-03 17:25:07 -0500 (Mon, 03 Feb 2025) EndedAt: 2025-02-03 17:25:32 -0500 (Mon, 03 Feb 2025) EllapsedTime: 25.0 seconds RetCode: 0 Status: OK PackageFile: flowFP_1.65.0.tar.gz PackageFileSize: 5.132 MiB