Package: flowFP Version: 1.65.0 Command: /home/biocbuild/R/R/bin/R CMD build --keep-empty-dirs --no-resave-data flowFP StartedAt: 2025-01-28 22:56:00 -0000 (Tue, 28 Jan 2025) EndedAt: 2025-01-28 22:56:33 -0000 (Tue, 28 Jan 2025) EllapsedTime: 33.0 seconds RetCode: 0 Status: OK PackageFile: flowFP_1.65.0.tar.gz PackageFileSize: 5.129 MiB