Package: flowFP Version: 1.65.0 Maintainer: Herb Holyst , Wade Rogers MaintainerEmail: wade.rogers at spcytomics.com git_url: https://git.bioconductor.org/packages/flowFP git_branch: devel git_last_commit: a7c3d15 git_last_commit_date: 2024-10-29 09:31:46 -0500 (Tue, 29 Oct 2024)