Package: flowDensity Version: 1.43.0 Command: rm -rf flowDensity.buildbin-libdir && mkdir flowDensity.buildbin-libdir && F:\biocbuild\bbs-3.22-bioc\R\bin\R.exe CMD INSTALL --build --library=flowDensity.buildbin-libdir flowDensity_1.43.0.tar.gz StartedAt: 2025-08-15 10:17:01 -0400 (Fri, 15 Aug 2025) EndedAt: 2025-08-15 10:17:28 -0400 (Fri, 15 Aug 2025) EllapsedTime: 27.4 seconds RetCode: 0 Status: OK PackageFile: flowDensity_1.43.0.zip PackageFileSize: 4.491 MiB