Package: flowDensity Version: 1.43.0 Maintainer: Mehrnoush Malek MaintainerEmail: mehrmalek at gmail.com git_url: https://git.bioconductor.org/packages/flowDensity git_branch: devel git_last_commit: 6fa046d git_last_commit_date: 2025-04-15 10:32:08 -0400 (Tue, 15 Apr 2025)