Package: flowCut Version: 1.17.0 Command: /home/biocbuild/bbs-3.21-bioc/R/bin/R CMD INSTALL flowCut StartedAt: 2025-02-05 15:13:47 -0500 (Wed, 05 Feb 2025) EndedAt: 2025-02-05 15:13:55 -0500 (Wed, 05 Feb 2025) EllapsedTime: 8.1 seconds RetCode: 0 Status: OK