Package: flowCut
Version: 1.17.0
Command: /Library/Frameworks/R.framework/Resources/bin/R CMD INSTALL flowCut
StartedAt: 2025-02-17 15:33:02 -0500 (Mon, 17 Feb 2025)
EndedAt: 2025-02-17 15:33:13 -0500 (Mon, 17 Feb 2025)
EllapsedTime: 11.2 seconds
RetCode: 0
Status: OK