Package: flowCut Version: 1.17.0 Command: /Library/Frameworks/R.framework/Resources/bin/R CMD check --install=check:flowCut.install-out.txt --library=/Library/Frameworks/R.framework/Resources/library --no-vignettes --timings flowCut_1.17.0.tar.gz StartedAt: 2025-02-05 20:31:44 -0500 (Wed, 05 Feb 2025) EndedAt: 2025-02-05 20:33:24 -0500 (Wed, 05 Feb 2025) EllapsedTime: 100.3 seconds RetCode: 0 Status: OK CheckDir: flowCut.Rcheck Warnings: 0