Package: flowCut Version: 1.17.0 Command: /home/biocbuild/R/R/bin/R CMD INSTALL flowCut StartedAt: 2025-01-29 20:19:26 -0000 (Wed, 29 Jan 2025) EndedAt: 2025-01-29 20:19:38 -0000 (Wed, 29 Jan 2025) EllapsedTime: 11.1 seconds RetCode: 0 Status: OK