Package: flowCut Version: 1.17.0 Command: /home/biocbuild/R/R/bin/R CMD build --keep-empty-dirs --no-resave-data flowCut StartedAt: 2025-01-28 22:55:41 -0000 (Tue, 28 Jan 2025) EndedAt: 2025-01-28 22:56:16 -0000 (Tue, 28 Jan 2025) EllapsedTime: 35.0 seconds RetCode: 0 Status: OK PackageFile: flowCut_1.17.0.tar.gz PackageFileSize: 7.484 MiB