Package: flowCut Version: 1.19.0 Command: /Library/Frameworks/R.framework/Resources/bin/R CMD check --install=check:flowCut.install-out.txt --library=/Library/Frameworks/R.framework/Resources/library --no-vignettes --timings flowCut_1.19.0.tar.gz StartedAt: 2025-04-27 19:17:17 -0400 (Sun, 27 Apr 2025) EndedAt: 2025-04-27 19:17:52 -0400 (Sun, 27 Apr 2025) EllapsedTime: 35.5 seconds RetCode: 0 Status: OK CheckDir: flowCut.Rcheck Warnings: 0