Package: flowCut Version: 1.17.0 Command: /Library/Frameworks/R.framework/Resources/bin/R CMD build --keep-empty-dirs --no-resave-data flowCut StartedAt: 2025-02-05 16:21:40 -0500 (Wed, 05 Feb 2025) EndedAt: 2025-02-05 16:21:52 -0500 (Wed, 05 Feb 2025) EllapsedTime: 12.1 seconds RetCode: 0 Status: OK PackageFile: flowCut_1.17.0.tar.gz PackageFileSize: 8.384 MiB