Package: flowCut Version: 1.17.0 Command: rm -rf flowCut.buildbin-libdir && mkdir flowCut.buildbin-libdir && /Users/biocbuild/BBS/utils/build-universal.sh flowCut_1.17.0.tar.gz /Library/Frameworks/R.framework/Resources/bin/R flowCut.buildbin-libdir StartedAt: 2025-02-05 22:19:34 -0500 (Wed, 05 Feb 2025) EndedAt: 2025-02-05 22:19:40 -0500 (Wed, 05 Feb 2025) EllapsedTime: 5.1 seconds RetCode: 0 Status: OK PackageFile: flowCut_1.17.0.tgz PackageFileSize: 8.062 MiB