Package: flowCore Version: 2.21.0 Command: /home/biocbuild/R/R/bin/R CMD INSTALL flowCore StartedAt: 2025-10-20 20:24:43 -0000 (Mon, 20 Oct 2025) EndedAt: 2025-10-20 20:25:52 -0000 (Mon, 20 Oct 2025) EllapsedTime: 68.8 seconds RetCode: 0 Status: OK