Package: flowCore Version: 2.21.0 Command: /home/biocbuild/R/R/bin/R CMD build --keep-empty-dirs --no-resave-data flowCore StartedAt: 2025-10-20 23:48:22 -0000 (Mon, 20 Oct 2025) EndedAt: 2025-10-20 23:50:12 -0000 (Mon, 20 Oct 2025) EllapsedTime: 110.0 seconds RetCode: 0 Status: OK PackageFile: flowCore_2.21.0.tar.gz PackageFileSize: 7.443 MiB